BEGIN:VCALENDAR
VERSION:2.0
PRODID:-//Calypso Canada in Toronto - ECPv6.15.20//NONSGML v1.0//EN
CALSCALE:GREGORIAN
METHOD:PUBLISH
X-WR-CALNAME:Calypso Canada in Toronto
X-ORIGINAL-URL:https://calypsocanada.com
X-WR-CALDESC:Events for Calypso Canada in Toronto
REFRESH-INTERVAL;VALUE=DURATION:PT1H
X-Robots-Tag:noindex
X-PUBLISHED-TTL:PT1H
BEGIN:VTIMEZONE
TZID:America/Toronto
BEGIN:DAYLIGHT
TZOFFSETFROM:-0500
TZOFFSETTO:-0400
TZNAME:EDT
DTSTART:20210314T070000
END:DAYLIGHT
BEGIN:STANDARD
TZOFFSETFROM:-0400
TZOFFSETTO:-0500
TZNAME:EST
DTSTART:20211107T060000
END:STANDARD
BEGIN:DAYLIGHT
TZOFFSETFROM:-0500
TZOFFSETTO:-0400
TZNAME:EDT
DTSTART:20220313T070000
END:DAYLIGHT
BEGIN:STANDARD
TZOFFSETFROM:-0400
TZOFFSETTO:-0500
TZNAME:EST
DTSTART:20221106T060000
END:STANDARD
BEGIN:DAYLIGHT
TZOFFSETFROM:-0500
TZOFFSETTO:-0400
TZNAME:EDT
DTSTART:20230312T070000
END:DAYLIGHT
BEGIN:STANDARD
TZOFFSETFROM:-0400
TZOFFSETTO:-0500
TZNAME:EST
DTSTART:20231105T060000
END:STANDARD
BEGIN:DAYLIGHT
TZOFFSETFROM:-0500
TZOFFSETTO:-0400
TZNAME:EDT
DTSTART:20240310T070000
END:DAYLIGHT
BEGIN:STANDARD
TZOFFSETFROM:-0400
TZOFFSETTO:-0500
TZNAME:EST
DTSTART:20241103T060000
END:STANDARD
BEGIN:DAYLIGHT
TZOFFSETFROM:-0500
TZOFFSETTO:-0400
TZNAME:EDT
DTSTART:20250309T070000
END:DAYLIGHT
BEGIN:STANDARD
TZOFFSETFROM:-0400
TZOFFSETTO:-0500
TZNAME:EST
DTSTART:20251102T060000
END:STANDARD
END:VTIMEZONE
BEGIN:VEVENT
DTSTART;TZID=America/Toronto:20240805T120000
DTEND;TZID=America/Toronto:20240805T180000
DTSTAMP:20260422T174715
CREATED:20240720T040506Z
LAST-MODIFIED:20240720T040506Z
UID:13678-1722859200-1722880800@calypsocanada.com
SUMMARY:OCPA Calypso Stars Concert
DESCRIPTION:
URL:https://calypsocanada.com/event/ocpa-calypso-stars-concert/
LOCATION:Harbourfront WestJet Stage\, 235 Queens Quay W.\, Toronto\, ON\, M5J 2G8\, Canada
END:VEVENT
BEGIN:VEVENT
DTSTART;TZID=America/Toronto:20240728T180000
DTEND;TZID=America/Toronto:20240728T230000
DTSTAMP:20260422T174715
CREATED:20240720T035543Z
LAST-MODIFIED:20240720T035543Z
UID:13674-1722189600-1722207600@calypsocanada.com
SUMMARY:OCPA Kaiso 365  Calypso Finals 2024
DESCRIPTION:
URL:https://calypsocanada.com/event/ocpa-kaiso-365-calypso-finals-2024/
LOCATION:East Town Banquet Hall\, 2648 Eglinton Ave East\, Scarborough\, Ontario\, Canada
ATTACH;FMTTYPE=image/jpeg:https://calypsocanada.com/wp-content/uploads/2024/07/finals-flyer-494x640.jpg
END:VEVENT
BEGIN:VEVENT
DTSTART;TZID=America/Toronto:20240720T170000
DTEND;TZID=America/Toronto:20240720T200000
DTSTAMP:20260422T174715
CREATED:20240718T201438Z
LAST-MODIFIED:20240718T201438Z
UID:13639-1721494800-1721505600@calypsocanada.com
SUMMARY:Junior Carnival Showcase - 2024
DESCRIPTION:
URL:https://calypsocanada.com/event/junior-carnival-showcase-2024/
LOCATION:Neilson Park\, 1555 Neilson Road\, Scarborough\, Ontario\, Canada
ATTACH;FMTTYPE=image/jpeg:https://calypsocanada.com/wp-content/uploads/2024/07/PHOTO-2024-07-16-09-50-49-1-1210x1209.jpg
END:VEVENT
BEGIN:VEVENT
DTSTART;TZID=America/Toronto:20240714T180000
DTEND;TZID=America/Toronto:20240714T220000
DTSTAMP:20260422T174715
CREATED:20240629T064004Z
LAST-MODIFIED:20240629T064004Z
UID:13617-1720980000-1720994400@calypsocanada.com
SUMMARY:OCPA Calypso Tent Series 2024
DESCRIPTION:
URL:https://calypsocanada.com/event/ocpa-calypso-tent-series-2024-3/
LOCATION:Spade Bar & Lounge\, 3580 McNicoll Ave\, Scarborough\, Ontario\, Canada
ATTACH;FMTTYPE=image/jpeg:https://calypsocanada.com/wp-content/uploads/2024/06/OCPA-Calypso-Tents-1064x1600.jpeg
END:VEVENT
BEGIN:VEVENT
DTSTART;TZID=America/Toronto:20240707T180000
DTEND;TZID=America/Toronto:20240707T220000
DTSTAMP:20260422T174715
CREATED:20240629T063436Z
LAST-MODIFIED:20240629T063436Z
UID:13615-1720375200-1720389600@calypsocanada.com
SUMMARY:OCPA Calypso Tent Series 2024
DESCRIPTION:
URL:https://calypsocanada.com/event/ocpa-calypso-tent-series-2024-2/
LOCATION:Twilight Family Restaurant\, 55 Nugget Avenue\, Scarborough\, Ontario\, M1S 4A4\, Canada
ATTACH;FMTTYPE=image/jpeg:https://calypsocanada.com/wp-content/uploads/2024/06/OCPA-Calypso-Tents-1064x1600.jpeg
END:VEVENT
BEGIN:VEVENT
DTSTART;TZID=America/Toronto:20240706T200000
DTEND;TZID=America/Toronto:20240706T200000
DTSTAMP:20260422T174715
CREATED:20240629T062949Z
LAST-MODIFIED:20240629T062949Z
UID:13609-1720296000-1720296000@calypsocanada.com
SUMMARY:OCPA Calypso Tent Series 2024
DESCRIPTION:
URL:https://calypsocanada.com/event/ocpa-calypso-tent-series-2024/
LOCATION:Twilight Family Restaurant\, 55 Nugget Avenue\, Scarborough\, Ontario\, M1S 4A4\, Canada
ATTACH;FMTTYPE=image/jpeg:https://calypsocanada.com/wp-content/uploads/2024/06/OCPA-Calypso-Tents-1064x1600.jpeg
END:VEVENT
BEGIN:VEVENT
DTSTART;TZID=America/Toronto:20240702T093000
DTEND;TZID=America/Toronto:20240712T160000
DTSTAMP:20260422T174715
CREATED:20240630T051958Z
LAST-MODIFIED:20240630T051958Z
UID:13619-1719912600-1720800000@calypsocanada.com
SUMMARY:Free Kids Camp
DESCRIPTION:CANNES BRÛLEES ENCORE : the ‘live’ musical component of Caribana Kids Camp. Register free now!\nDrumming\, singing\, dancing…. tamboo bamboo\, engine room\, traditional calypso… and more. Lead Artist Keith Pascal with special guests tutors.
URL:https://calypsocanada.com/event/free-kids-camp/
LOCATION:Chester Le Blvd Community Corner\, 201 Chester Le Blvd\,\, Scarborough
ATTACH;FMTTYPE=image/jpeg:https://calypsocanada.com/wp-content/uploads/2024/06/Free-Caribana-Kids-Club-1932x2500.jpg
END:VEVENT
BEGIN:VEVENT
DTSTART;VALUE=DATE:20240629
DTEND;VALUE=DATE:20241230
DTSTAMP:20260422T174715
CREATED:20240629T061349Z
LAST-MODIFIED:20240629T061349Z
UID:13605-1719619200-1735516799@calypsocanada.com
SUMMARY:OCPA Calendar of Events 2024
DESCRIPTION:OCPA Calendar of Events 2024
URL:https://calypsocanada.com/event/ocpa-calendar-of-events-2024/
ATTACH;FMTTYPE=application/pdf:https://calypsocanada.com/wp-content/uploads/2024/06/OCPA-Calendar-of-Events-2024-1.pdf
END:VEVENT
BEGIN:VEVENT
DTSTART;TZID=America/Toronto:20230730T183000
DTEND;TZID=America/Toronto:20230730T230000
DTSTAMP:20260422T174715
CREATED:20230718T140336Z
LAST-MODIFIED:20230719T140014Z
UID:13566-1690741800-1690758000@calypsocanada.com
SUMMARY:OCPA Kaiso 365 - Calypso Monarch Finals
DESCRIPTION:
URL:https://calypsocanada.com/event/ocpa-kaiso-365-calypso-monarch-finals/
LOCATION:Latvian Centre\, 4 Credit Union Dr.\, Scarborough\, Ontario\, Canada
ATTACH;FMTTYPE=image/jpeg:https://calypsocanada.com/wp-content/uploads/2023/07/2023-Competition-flyer-2-1066x1600.jpeg
END:VEVENT
BEGIN:VEVENT
DTSTART;TZID=America/Toronto:20230722T170000
DTEND;TZID=America/Toronto:20230722T190000
DTSTAMP:20260422T174715
CREATED:20230718T143102Z
LAST-MODIFIED:20230718T143102Z
UID:13572-1690045200-1690052400@calypsocanada.com
SUMMARY:OCPA Junior Carnival Showcase
DESCRIPTION:
URL:https://calypsocanada.com/event/ocpa-junior-carnival-showcase/
LOCATION:Neilson Park\, 1555 Neilson Road\, Scarborough\, Ontario\, Canada
ATTACH;FMTTYPE=image/jpeg:https://calypsocanada.com/wp-content/uploads/2023/07/Junior-showcase-flyer-2023-576x759.jpg
END:VEVENT
BEGIN:VEVENT
DTSTART;TZID=America/Toronto:20230715T180000
DTEND;TZID=America/Toronto:20230715T233000
DTSTAMP:20260422T174715
CREATED:20230616T232713Z
LAST-MODIFIED:20230709T044727Z
UID:13444-1689444000-1689463800@calypsocanada.com
SUMMARY:Calypso Spotlight Tent 2023
DESCRIPTION:
URL:https://calypsocanada.com/event/calypso-spotlight-tent-2023/
LOCATION:Spade Bar & Lounge\, 3580 McNicoll Ave\, Scarborough\, Ontario\, Canada
ATTACH;FMTTYPE=image/jpeg:https://calypsocanada.com/wp-content/uploads/2023/06/Tent-Flyer-july-15-OCPA-1035x1600.jpg
END:VEVENT
BEGIN:VEVENT
DTSTART;TZID=America/Toronto:20230714T200000
DTEND;TZID=America/Toronto:20230714T233000
DTSTAMP:20260422T174715
CREATED:20230616T223354Z
LAST-MODIFIED:20230617T015931Z
UID:13428-1689364800-1689377400@calypsocanada.com
SUMMARY:Calypso Spotlight Tent Series 2023
DESCRIPTION:
URL:https://calypsocanada.com/event/calypso-spotlight-tent-series1-2023-2/
LOCATION:Fusion Restaurant and Lounge\, 880 Ellesmere Road\, Scarborough\, Ontario\, Canada
ATTACH;FMTTYPE=image/jpeg:https://calypsocanada.com/wp-content/uploads/2023/05/Calypso-Spotlight-tent-july-14-flyer-1035x1600-e1686953252743.jpg
END:VEVENT
BEGIN:VEVENT
DTSTART;TZID=America/Toronto:20230714T160000
DTEND;TZID=America/Toronto:20230807T200000
DTSTAMP:20260422T174715
CREATED:20230630T133849Z
LAST-MODIFIED:20230719T233446Z
UID:13491-1689350400-1691438400@calypsocanada.com
SUMMARY:OCPA 2023 Calendar of Events
DESCRIPTION:
URL:https://calypsocanada.com/event/ocpa-2023-calendar-of-events/
ATTACH;FMTTYPE=image/jpeg:https://calypsocanada.com/wp-content/uploads/2023/06/OCPA-Calendar-of-Events-577x759.jpg
END:VEVENT
BEGIN:VEVENT
DTSTART;TZID=America/Toronto:20230521T120000
DTEND;TZID=America/Toronto:20230521T150000
DTSTAMP:20260422T174715
CREATED:20230630T140200Z
LAST-MODIFIED:20230630T140200Z
UID:13509-1684670400-1684681200@calypsocanada.com
SUMMARY:Calypso Tune-up Fundraiser Brunch and Show
DESCRIPTION:
URL:https://calypsocanada.com/event/calypso-tune-up-fundraiser-brunch-and-show/
LOCATION:Spade Bar & Lounge\, 3580 McNicoll Ave\, Scarborough\, Ontario\, Canada
ATTACH;FMTTYPE=image/jpeg:https://calypsocanada.com/wp-content/uploads/2023/06/OCPA-Brunch-Flyer-582x765.jpg
END:VEVENT
BEGIN:VEVENT
DTSTART;TZID=America/Toronto:20220801T150000
DTEND;TZID=America/Toronto:20220801T170000
DTSTAMP:20260422T174715
CREATED:20220525T153256Z
LAST-MODIFIED:20220602T150321Z
UID:216-1659366000-1659373200@calypsocanada.com
SUMMARY:CALYPSO STARS
DESCRIPTION:An Outdoor Free Event \nMonday August 1st 3:00 pm @ Harbourfront WestJet StageCALYPSO STARS is a partnership between Organization of Calypso Performing Artistes (OCPA) and Harbourfront Centre (HFC) that presents Canadian calypso before an audience of over 2\,500. The inclusion of Calypso STARS in HFC’s marketing program exposes new and more varied audiences to Calypso and OCPA’s artists. Having calypso at the waterfront makes it an almost tropical musical experience for audience and artistes to enjoy. The concert serves to raise OCPA’s public profile\, increase OCPA’s advertising reach and the sponsorship value of our program
URL:https://calypsocanada.com/event/calypso-stars/
LOCATION:Harbourfront WestJet Stage\, 235 Queens Quay W.\, Toronto\, ON\, M5J 2G8\, Canada
END:VEVENT
BEGIN:VEVENT
DTSTART;TZID=America/Toronto:20220801T123000
DTEND;TZID=America/Toronto:20220801T140000
DTSTAMP:20260422T174715
CREATED:20220525T153517Z
LAST-MODIFIED:20220602T145608Z
UID:219-1659357000-1659362400@calypsocanada.com
SUMMARY:CALYPSO WORKSHOP (Sans Humanité)
DESCRIPTION:An Indoor Free Event \nThis workshop is a first for OCPA\, also done in partnership with HTC. Participants will learn the rudiments of composing an 8-line calypso\, using a standard melody that is more than 100 years old. It will introduce participants to Extempo\, one of the earliest forms of Calypso\, sung in the minor key. It will be acoustic (guitar accompaniment) and conducted by one or more OCPA members\, who will perform on the WestJet Stage afterwards. At the conclusion\, participants will have the opportunity to perform their song for one another. It will be limited to approximately 25 participants\, on first-come\, first-served basis. \n 
URL:https://calypsocanada.com/event/calypso-workshop-sans-humanite/
LOCATION:Harbourfront WestJet Stage\, 235 Queens Quay W.\, Toronto\, ON\, M5J 2G8\, Canada
END:VEVENT
BEGIN:VEVENT
DTSTART;TZID=America/Toronto:20220727T203000
DTEND;TZID=America/Toronto:20220728T010000
DTSTAMP:20260422T174715
CREATED:20220627T134737Z
LAST-MODIFIED:20220713T165015Z
UID:13368-1658953800-1658970000@calypsocanada.com
SUMMARY:FETE MARKET
DESCRIPTION:Major Indoor Ticketed Event\nJuly 27\, 2022\nOCPA Fete Market- New for 2022 OCPA presents our first ever Premier Soca Event – Fete Market featuring KI the 3x Chutney Soca Monarch as well as local artist Miguel Maestre\, Kash\, Avibe\, Captain Scrappy\, Jaxx and Level Exodus\, Legacy 24K and Logun.  So come FETE LOCAL\, ENJOY Local!!!
URL:https://calypsocanada.com/event/fete-market/
LOCATION:Latvian Centre\, 4 Credit Union Dr.\, Scarborough\, Ontario\, Canada
END:VEVENT
BEGIN:VEVENT
DTSTART;TZID=America/Toronto:20220724T183000
DTEND;TZID=America/Toronto:20220724T210000
DTSTAMP:20260422T174715
CREATED:20220524T185436Z
LAST-MODIFIED:20220713T165346Z
UID:164-1658687400-1658696400@calypsocanada.com
SUMMARY:OCPA - KAISO COME BACK AGAIN
DESCRIPTION:Major Indoor Ticketed Event\nSunday July 24th\nThe OCPA – Kaiso Come Back Again features Canadian calypso icons. Most of them have won the Canadian Calypso Monarch title one or more times in their career. They are well known to Canadian and wider audiences as cultural ambassadors who maintain excellence in the Calypso and Soca art forms. The show strives to set artistic and technical standards for the performance and rendition of new works. OCPA pulls out all the stops and provides a band of highly accomplished musicians to accompany the artistes in their presentations.
URL:https://calypsocanada.com/event/ocpa-kaiso-come-back-again/
LOCATION:Latvian Centre\, 4 Credit Union Dr.\, Scarborough\, Ontario\, Canada
END:VEVENT
BEGIN:VEVENT
DTSTART;TZID=America/Toronto:20220716T163000
DTEND;TZID=America/Toronto:20220716T183000
DTSTAMP:20260422T174715
CREATED:20220524T185150Z
LAST-MODIFIED:20220713T144455Z
UID:161-1657989000-1657996200@calypsocanada.com
SUMMARY:JUNIOR SHOWCASE
DESCRIPTION:Open Air Event Featuring Teenaged and Younger Artistes\nLocation:  Neilson Park \nThis event follows on the heels of the Junior Carnival Parade in Malvern. OCPA is delighted to continue this program in partnership with the FMC. It is crucial to providing a platform for junior and budding artistes to practise the Carnival Arts. It will bring together and encourage greater participation by young Calypso and Soca artistes\, dancers\, and other performers of the carnival arts. There will be a combination of digital and live performances.
URL:https://calypsocanada.com/event/junior-showcase/
LOCATION:Neilson Park\, 1555 Neilson Road\, Scarborough\, Ontario\, Canada
END:VEVENT
END:VCALENDAR